BEGIN:VCALENDAR
VERSION:2.0
PRODID:-//River Forest Country Club - ECPv6.15.20//NONSGML v1.0//EN
CALSCALE:GREGORIAN
METHOD:PUBLISH
X-WR-CALNAME:River Forest Country Club
X-ORIGINAL-URL:https://riverforestgolf.com
X-WR-CALDESC:Events for River Forest Country Club
REFRESH-INTERVAL;VALUE=DURATION:PT1H
X-Robots-Tag:noindex
X-PUBLISHED-TTL:PT1H
BEGIN:VTIMEZONE
TZID:America/Toronto
BEGIN:DAYLIGHT
TZOFFSETFROM:-0500
TZOFFSETTO:-0400
TZNAME:EDT
DTSTART:20240310T070000
END:DAYLIGHT
BEGIN:STANDARD
TZOFFSETFROM:-0400
TZOFFSETTO:-0500
TZNAME:EST
DTSTART:20241103T060000
END:STANDARD
BEGIN:DAYLIGHT
TZOFFSETFROM:-0500
TZOFFSETTO:-0400
TZNAME:EDT
DTSTART:20250309T070000
END:DAYLIGHT
BEGIN:STANDARD
TZOFFSETFROM:-0400
TZOFFSETTO:-0500
TZNAME:EST
DTSTART:20251102T060000
END:STANDARD
BEGIN:DAYLIGHT
TZOFFSETFROM:-0500
TZOFFSETTO:-0400
TZNAME:EDT
DTSTART:20260308T070000
END:DAYLIGHT
BEGIN:STANDARD
TZOFFSETFROM:-0400
TZOFFSETTO:-0500
TZNAME:EST
DTSTART:20261101T060000
END:STANDARD
END:VTIMEZONE
BEGIN:VEVENT
DTSTART;TZID=America/Toronto:20250704T180000
DTEND;TZID=America/Toronto:20250704T210000
DTSTAMP:20260421T113852
CREATED:20240405T034459Z
LAST-MODIFIED:20260117T045853Z
UID:10000872-1751652000-1751662800@riverforestgolf.com
SUMMARY:Friday Happy Hour
DESCRIPTION:Join us every Friday for live music by local artists from 6-9 pm.
URL:https://riverforestgolf.com/event/friday-happy-hour/2025-07-04/
END:VEVENT
BEGIN:VEVENT
DTSTART;TZID=America/Toronto:20250701T190000
DTEND;TZID=America/Toronto:20250701T210000
DTSTAMP:20260421T113852
CREATED:20241221T043707Z
LAST-MODIFIED:20260117T042922Z
UID:10000609-1751396400-1751403600@riverforestgolf.com
SUMMARY:DJ Trivia Night
DESCRIPTION:Join us for DJ Trivia Night every Tuesday at 7pm. Free to play and winning team gets a prize! Food and drinks available starting at 7 pm.
URL:https://riverforestgolf.com/event/dj-trivia-night-4-2/2025-07-01/
END:VEVENT
BEGIN:VEVENT
DTSTART;TZID=America/Toronto:20250627T180000
DTEND;TZID=America/Toronto:20250627T210000
DTSTAMP:20260421T113852
CREATED:20240405T034459Z
LAST-MODIFIED:20260117T045853Z
UID:10000871-1751047200-1751058000@riverforestgolf.com
SUMMARY:Friday Happy Hour
DESCRIPTION:Join us every Friday for live music by local artists from 6-9 pm.
URL:https://riverforestgolf.com/event/friday-happy-hour/2025-06-27/
END:VEVENT
BEGIN:VEVENT
DTSTART;TZID=America/Toronto:20250624T190000
DTEND;TZID=America/Toronto:20250624T210000
DTSTAMP:20260421T113852
CREATED:20241221T043707Z
LAST-MODIFIED:20260117T042922Z
UID:10000608-1750791600-1750798800@riverforestgolf.com
SUMMARY:DJ Trivia Night
DESCRIPTION:Join us for DJ Trivia Night every Tuesday at 7pm. Free to play and winning team gets a prize! Food and drinks available starting at 7 pm.
URL:https://riverforestgolf.com/event/dj-trivia-night-4-2/2025-06-24/
END:VEVENT
BEGIN:VEVENT
DTSTART;TZID=America/Toronto:20250620T180000
DTEND;TZID=America/Toronto:20250620T210000
DTSTAMP:20260421T113852
CREATED:20240405T034459Z
LAST-MODIFIED:20260117T045853Z
UID:10000870-1750442400-1750453200@riverforestgolf.com
SUMMARY:Friday Happy Hour
DESCRIPTION:Join us every Friday for live music by local artists from 6-9 pm.
URL:https://riverforestgolf.com/event/friday-happy-hour/2025-06-20/
END:VEVENT
BEGIN:VEVENT
DTSTART;TZID=America/Toronto:20250617T190000
DTEND;TZID=America/Toronto:20250617T210000
DTSTAMP:20260421T113852
CREATED:20241221T043707Z
LAST-MODIFIED:20260117T042922Z
UID:10000607-1750186800-1750194000@riverforestgolf.com
SUMMARY:DJ Trivia Night
DESCRIPTION:Join us for DJ Trivia Night every Tuesday at 7pm. Free to play and winning team gets a prize! Food and drinks available starting at 7 pm.
URL:https://riverforestgolf.com/event/dj-trivia-night-4-2/2025-06-17/
END:VEVENT
BEGIN:VEVENT
DTSTART;TZID=America/Toronto:20250613T180000
DTEND;TZID=America/Toronto:20250613T210000
DTSTAMP:20260421T113852
CREATED:20240405T034459Z
LAST-MODIFIED:20260117T045853Z
UID:10000869-1749837600-1749848400@riverforestgolf.com
SUMMARY:Friday Happy Hour
DESCRIPTION:Join us every Friday for live music by local artists from 6-9 pm.
URL:https://riverforestgolf.com/event/friday-happy-hour/2025-06-13/
END:VEVENT
BEGIN:VEVENT
DTSTART;TZID=America/Toronto:20250610T190000
DTEND;TZID=America/Toronto:20250610T210000
DTSTAMP:20260421T113852
CREATED:20241221T043707Z
LAST-MODIFIED:20260117T042922Z
UID:10000606-1749582000-1749589200@riverforestgolf.com
SUMMARY:DJ Trivia Night
DESCRIPTION:Join us for DJ Trivia Night every Tuesday at 7pm. Free to play and winning team gets a prize! Food and drinks available starting at 7 pm.
URL:https://riverforestgolf.com/event/dj-trivia-night-4-2/2025-06-10/
END:VEVENT
BEGIN:VEVENT
DTSTART;TZID=America/Toronto:20250606T180000
DTEND;TZID=America/Toronto:20250606T210000
DTSTAMP:20260421T113852
CREATED:20240405T034459Z
LAST-MODIFIED:20260117T045853Z
UID:10000868-1749232800-1749243600@riverforestgolf.com
SUMMARY:Friday Happy Hour
DESCRIPTION:Join us every Friday for live music by local artists from 6-9 pm.
URL:https://riverforestgolf.com/event/friday-happy-hour/2025-06-06/
END:VEVENT
BEGIN:VEVENT
DTSTART;TZID=America/Toronto:20250603T190000
DTEND;TZID=America/Toronto:20250603T210000
DTSTAMP:20260421T113852
CREATED:20241221T043707Z
LAST-MODIFIED:20260117T042922Z
UID:10000605-1748977200-1748984400@riverforestgolf.com
SUMMARY:DJ Trivia Night
DESCRIPTION:Join us for DJ Trivia Night every Tuesday at 7pm. Free to play and winning team gets a prize! Food and drinks available starting at 7 pm.
URL:https://riverforestgolf.com/event/dj-trivia-night-4-2/2025-06-03/
END:VEVENT
BEGIN:VEVENT
DTSTART;TZID=America/Toronto:20250530T180000
DTEND;TZID=America/Toronto:20250530T210000
DTSTAMP:20260421T113852
CREATED:20240405T034459Z
LAST-MODIFIED:20260117T045853Z
UID:10000867-1748628000-1748638800@riverforestgolf.com
SUMMARY:Friday Happy Hour
DESCRIPTION:Join us every Friday for live music by local artists from 6-9 pm.
URL:https://riverforestgolf.com/event/friday-happy-hour/2025-05-30/
END:VEVENT
BEGIN:VEVENT
DTSTART;TZID=America/Toronto:20250527T190000
DTEND;TZID=America/Toronto:20250527T210000
DTSTAMP:20260421T113852
CREATED:20241221T043707Z
LAST-MODIFIED:20260117T042922Z
UID:10000604-1748372400-1748379600@riverforestgolf.com
SUMMARY:DJ Trivia Night
DESCRIPTION:Join us for DJ Trivia Night every Tuesday at 7pm. Free to play and winning team gets a prize! Food and drinks available starting at 7 pm.
URL:https://riverforestgolf.com/event/dj-trivia-night-4-2/2025-05-27/
END:VEVENT
BEGIN:VEVENT
DTSTART;TZID=America/Toronto:20250526T173000
DTEND;TZID=America/Toronto:20250526T210000
DTSTAMP:20260421T113852
CREATED:20250510T035646Z
LAST-MODIFIED:20250510T035646Z
UID:10001764-1748280600-1748293200@riverforestgolf.com
SUMMARY:Memorial Day BBQ Picnic
DESCRIPTION:
URL:https://riverforestgolf.com/event/memorial-day-bbq-picnic/
END:VEVENT
BEGIN:VEVENT
DTSTART;TZID=America/Toronto:20250523T180000
DTEND;TZID=America/Toronto:20250523T210000
DTSTAMP:20260421T113852
CREATED:20240405T034459Z
LAST-MODIFIED:20260117T045853Z
UID:10000866-1748023200-1748034000@riverforestgolf.com
SUMMARY:Friday Happy Hour
DESCRIPTION:Join us every Friday for live music by local artists from 6-9 pm.
URL:https://riverforestgolf.com/event/friday-happy-hour/2025-05-23/
END:VEVENT
BEGIN:VEVENT
DTSTART;TZID=America/Toronto:20250520T190000
DTEND;TZID=America/Toronto:20250520T210000
DTSTAMP:20260421T113852
CREATED:20241221T043707Z
LAST-MODIFIED:20260117T042922Z
UID:10000603-1747767600-1747774800@riverforestgolf.com
SUMMARY:DJ Trivia Night
DESCRIPTION:Join us for DJ Trivia Night every Tuesday at 7pm. Free to play and winning team gets a prize! Food and drinks available starting at 7 pm.
URL:https://riverforestgolf.com/event/dj-trivia-night-4-2/2025-05-20/
END:VEVENT
BEGIN:VEVENT
DTSTART;TZID=America/Toronto:20250516T180000
DTEND;TZID=America/Toronto:20250516T210000
DTSTAMP:20260421T113852
CREATED:20240405T034459Z
LAST-MODIFIED:20260117T045853Z
UID:10000865-1747418400-1747429200@riverforestgolf.com
SUMMARY:Friday Happy Hour
DESCRIPTION:Join us every Friday for live music by local artists from 6-9 pm.
URL:https://riverforestgolf.com/event/friday-happy-hour/2025-05-16/
END:VEVENT
BEGIN:VEVENT
DTSTART;TZID=America/Toronto:20250513T190000
DTEND;TZID=America/Toronto:20250513T210000
DTSTAMP:20260421T113852
CREATED:20241221T043707Z
LAST-MODIFIED:20260117T042922Z
UID:10000602-1747162800-1747170000@riverforestgolf.com
SUMMARY:DJ Trivia Night
DESCRIPTION:Join us for DJ Trivia Night every Tuesday at 7pm. Free to play and winning team gets a prize! Food and drinks available starting at 7 pm.
URL:https://riverforestgolf.com/event/dj-trivia-night-4-2/2025-05-13/
END:VEVENT
BEGIN:VEVENT
DTSTART;TZID=America/Toronto:20250511T100000
DTEND;TZID=America/Toronto:20250511T143000
DTSTAMP:20260421T113852
CREATED:20250426T011730Z
LAST-MODIFIED:20250426T011753Z
UID:10001763-1746957600-1746973800@riverforestgolf.com
SUMMARY:Mother's Day Buffet
DESCRIPTION:  \nJoin us on May 11th for our Mother’s Day Buffet! \nMake your reservations today by calling 724-295-2298 or email us at events@riverforestgolf.com.
URL:https://riverforestgolf.com/event/mothers-day-buffet-2/
END:VEVENT
BEGIN:VEVENT
DTSTART;TZID=America/Toronto:20250509T180000
DTEND;TZID=America/Toronto:20250509T210000
DTSTAMP:20260421T113852
CREATED:20240405T034459Z
LAST-MODIFIED:20260117T045853Z
UID:10000864-1746813600-1746824400@riverforestgolf.com
SUMMARY:Friday Happy Hour
DESCRIPTION:Join us every Friday for live music by local artists from 6-9 pm.
URL:https://riverforestgolf.com/event/friday-happy-hour/2025-05-09/
END:VEVENT
BEGIN:VEVENT
DTSTART;TZID=America/Toronto:20250506T190000
DTEND;TZID=America/Toronto:20250506T210000
DTSTAMP:20260421T113852
CREATED:20241221T043707Z
LAST-MODIFIED:20260117T042922Z
UID:10000601-1746558000-1746565200@riverforestgolf.com
SUMMARY:DJ Trivia Night
DESCRIPTION:Join us for DJ Trivia Night every Tuesday at 7pm. Free to play and winning team gets a prize! Food and drinks available starting at 7 pm.
URL:https://riverforestgolf.com/event/dj-trivia-night-4-2/2025-05-06/
END:VEVENT
BEGIN:VEVENT
DTSTART;TZID=America/Toronto:20250502T180000
DTEND;TZID=America/Toronto:20250502T210000
DTSTAMP:20260421T113852
CREATED:20240405T034459Z
LAST-MODIFIED:20260117T045853Z
UID:10000863-1746208800-1746219600@riverforestgolf.com
SUMMARY:Friday Happy Hour
DESCRIPTION:Join us every Friday for live music by local artists from 6-9 pm.
URL:https://riverforestgolf.com/event/friday-happy-hour/2025-05-02/
END:VEVENT
BEGIN:VEVENT
DTSTART;TZID=America/Toronto:20250429T190000
DTEND;TZID=America/Toronto:20250429T210000
DTSTAMP:20260421T113852
CREATED:20241221T043707Z
LAST-MODIFIED:20260117T042922Z
UID:10000600-1745953200-1745960400@riverforestgolf.com
SUMMARY:DJ Trivia Night
DESCRIPTION:Join us for DJ Trivia Night every Tuesday at 7pm. Free to play and winning team gets a prize! Food and drinks available starting at 7 pm.
URL:https://riverforestgolf.com/event/dj-trivia-night-4-2/2025-04-29/
END:VEVENT
BEGIN:VEVENT
DTSTART;TZID=America/Toronto:20250425T180000
DTEND;TZID=America/Toronto:20250425T210000
DTSTAMP:20260421T113852
CREATED:20240405T034459Z
LAST-MODIFIED:20260117T045853Z
UID:10000862-1745604000-1745614800@riverforestgolf.com
SUMMARY:Friday Happy Hour
DESCRIPTION:Join us every Friday for live music by local artists from 6-9 pm.
URL:https://riverforestgolf.com/event/friday-happy-hour/2025-04-25/
END:VEVENT
BEGIN:VEVENT
DTSTART;TZID=America/Toronto:20250422T190000
DTEND;TZID=America/Toronto:20250422T210000
DTSTAMP:20260421T113852
CREATED:20241221T043707Z
LAST-MODIFIED:20260117T042922Z
UID:10000599-1745348400-1745355600@riverforestgolf.com
SUMMARY:DJ Trivia Night
DESCRIPTION:Join us for DJ Trivia Night every Tuesday at 7pm. Free to play and winning team gets a prize! Food and drinks available starting at 7 pm.
URL:https://riverforestgolf.com/event/dj-trivia-night-4-2/2025-04-22/
END:VEVENT
BEGIN:VEVENT
DTSTART;TZID=America/Toronto:20250420T100000
DTEND;TZID=America/Toronto:20250420T140000
DTSTAMP:20260421T113852
CREATED:20250319T020451Z
LAST-MODIFIED:20250319T020451Z
UID:10001762-1745143200-1745157600@riverforestgolf.com
SUMMARY:Easter Buffet
DESCRIPTION:
URL:https://riverforestgolf.com/event/easter-buffet/
END:VEVENT
BEGIN:VEVENT
DTSTART;TZID=America/Toronto:20250418T180000
DTEND;TZID=America/Toronto:20250418T210000
DTSTAMP:20260421T113852
CREATED:20240405T034459Z
LAST-MODIFIED:20260117T045853Z
UID:10000861-1744999200-1745010000@riverforestgolf.com
SUMMARY:Friday Happy Hour
DESCRIPTION:Join us every Friday for live music by local artists from 6-9 pm.
URL:https://riverforestgolf.com/event/friday-happy-hour/2025-04-18/
END:VEVENT
BEGIN:VEVENT
DTSTART;TZID=America/Toronto:20250415T190000
DTEND;TZID=America/Toronto:20250415T210000
DTSTAMP:20260421T113852
CREATED:20241221T043707Z
LAST-MODIFIED:20260117T042922Z
UID:10000598-1744743600-1744750800@riverforestgolf.com
SUMMARY:DJ Trivia Night
DESCRIPTION:Join us for DJ Trivia Night every Tuesday at 7pm. Free to play and winning team gets a prize! Food and drinks available starting at 7 pm.
URL:https://riverforestgolf.com/event/dj-trivia-night-4-2/2025-04-15/
END:VEVENT
BEGIN:VEVENT
DTSTART;TZID=America/Toronto:20250411T180000
DTEND;TZID=America/Toronto:20250411T210000
DTSTAMP:20260421T113852
CREATED:20240405T034459Z
LAST-MODIFIED:20260117T045853Z
UID:10000860-1744394400-1744405200@riverforestgolf.com
SUMMARY:Friday Happy Hour
DESCRIPTION:Join us every Friday for live music by local artists from 6-9 pm.
URL:https://riverforestgolf.com/event/friday-happy-hour/2025-04-11/
END:VEVENT
BEGIN:VEVENT
DTSTART;TZID=America/Toronto:20250408T190000
DTEND;TZID=America/Toronto:20250408T210000
DTSTAMP:20260421T113852
CREATED:20241221T043707Z
LAST-MODIFIED:20260117T042922Z
UID:10000597-1744138800-1744146000@riverforestgolf.com
SUMMARY:DJ Trivia Night
DESCRIPTION:Join us for DJ Trivia Night every Tuesday at 7pm. Free to play and winning team gets a prize! Food and drinks available starting at 7 pm.
URL:https://riverforestgolf.com/event/dj-trivia-night-4-2/2025-04-08/
END:VEVENT
BEGIN:VEVENT
DTSTART;TZID=America/Toronto:20250404T180000
DTEND;TZID=America/Toronto:20250404T210000
DTSTAMP:20260421T113852
CREATED:20240405T034459Z
LAST-MODIFIED:20260117T045853Z
UID:10000859-1743789600-1743800400@riverforestgolf.com
SUMMARY:Friday Happy Hour
DESCRIPTION:Join us every Friday for live music by local artists from 6-9 pm.
URL:https://riverforestgolf.com/event/friday-happy-hour/2025-04-04/
END:VEVENT
END:VCALENDAR