BEGIN:VCALENDAR
VERSION:2.0
PRODID:-//River Forest Country Club - ECPv6.15.20//NONSGML v1.0//EN
CALSCALE:GREGORIAN
METHOD:PUBLISH
X-WR-CALNAME:River Forest Country Club
X-ORIGINAL-URL:https://riverforestgolf.com
X-WR-CALDESC:Events for River Forest Country Club
REFRESH-INTERVAL;VALUE=DURATION:PT1H
X-Robots-Tag:noindex
X-PUBLISHED-TTL:PT1H
BEGIN:VTIMEZONE
TZID:America/Toronto
BEGIN:DAYLIGHT
TZOFFSETFROM:-0500
TZOFFSETTO:-0400
TZNAME:EDT
DTSTART:20230312T070000
END:DAYLIGHT
BEGIN:STANDARD
TZOFFSETFROM:-0400
TZOFFSETTO:-0500
TZNAME:EST
DTSTART:20231105T060000
END:STANDARD
BEGIN:DAYLIGHT
TZOFFSETFROM:-0500
TZOFFSETTO:-0400
TZNAME:EDT
DTSTART:20240310T070000
END:DAYLIGHT
BEGIN:STANDARD
TZOFFSETFROM:-0400
TZOFFSETTO:-0500
TZNAME:EST
DTSTART:20241103T060000
END:STANDARD
BEGIN:DAYLIGHT
TZOFFSETFROM:-0500
TZOFFSETTO:-0400
TZNAME:EDT
DTSTART:20250309T070000
END:DAYLIGHT
BEGIN:STANDARD
TZOFFSETFROM:-0400
TZOFFSETTO:-0500
TZNAME:EST
DTSTART:20251102T060000
END:STANDARD
END:VTIMEZONE
BEGIN:VEVENT
DTSTART;TZID=America/Toronto:20240917T190000
DTEND;TZID=America/Toronto:20240917T210000
DTSTAMP:20260421T142208
CREATED:20240201T234943Z
LAST-MODIFIED:20241221T043957Z
UID:10000568-1726599600-1726606800@riverforestgolf.com
SUMMARY:DJ Trivia Night
DESCRIPTION:Join us for DJ Trivia Night every Tuesday at 7pm. Free to play and winning team gets a prize! Food and drinks available starting at 7 pm.
URL:https://riverforestgolf.com/event/dj-trivia-night-4/2024-09-17/
END:VEVENT
BEGIN:VEVENT
DTSTART;TZID=America/Toronto:20240920T180000
DTEND;TZID=America/Toronto:20240920T210000
DTSTAMP:20260421T142208
CREATED:20240405T034459Z
LAST-MODIFIED:20260117T045853Z
UID:10000831-1726855200-1726866000@riverforestgolf.com
SUMMARY:Friday Happy Hour
DESCRIPTION:Join us every Friday for live music by local artists from 6-9 pm.
URL:https://riverforestgolf.com/event/friday-happy-hour/2024-09-20/
END:VEVENT
BEGIN:VEVENT
DTSTART;TZID=America/Toronto:20240924T190000
DTEND;TZID=America/Toronto:20240924T210000
DTSTAMP:20260421T142208
CREATED:20240201T234943Z
LAST-MODIFIED:20241221T043957Z
UID:10000569-1727204400-1727211600@riverforestgolf.com
SUMMARY:DJ Trivia Night
DESCRIPTION:Join us for DJ Trivia Night every Tuesday at 7pm. Free to play and winning team gets a prize! Food and drinks available starting at 7 pm.
URL:https://riverforestgolf.com/event/dj-trivia-night-4/2024-09-24/
END:VEVENT
BEGIN:VEVENT
DTSTART;TZID=America/Toronto:20240927T180000
DTEND;TZID=America/Toronto:20240927T210000
DTSTAMP:20260421T142208
CREATED:20240405T034459Z
LAST-MODIFIED:20260117T045853Z
UID:10000832-1727460000-1727470800@riverforestgolf.com
SUMMARY:Friday Happy Hour
DESCRIPTION:Join us every Friday for live music by local artists from 6-9 pm.
URL:https://riverforestgolf.com/event/friday-happy-hour/2024-09-27/
END:VEVENT
BEGIN:VEVENT
DTSTART;TZID=America/Toronto:20240928T190000
DTEND;TZID=America/Toronto:20240928T220000
DTSTAMP:20260421T142208
CREATED:20240921T044503Z
LAST-MODIFIED:20240921T044503Z
UID:10001704-1727550000-1727560800@riverforestgolf.com
SUMMARY:Oktoberfest Outdoor Concert
DESCRIPTION:Join us for our outdoor concert event on the back patio with music from 2Bs Acoustic\, German themed foods\, and of course\, beer! \nBuy your tickets now!
URL:https://riverforestgolf.com/event/oktoberfest-outdoor-concert/
END:VEVENT
BEGIN:VEVENT
DTSTART;TZID=America/Toronto:20241001T190000
DTEND;TZID=America/Toronto:20241001T210000
DTSTAMP:20260421T142208
CREATED:20240201T234943Z
LAST-MODIFIED:20241221T043957Z
UID:10000570-1727809200-1727816400@riverforestgolf.com
SUMMARY:DJ Trivia Night
DESCRIPTION:Join us for DJ Trivia Night every Tuesday at 7pm. Free to play and winning team gets a prize! Food and drinks available starting at 7 pm.
URL:https://riverforestgolf.com/event/dj-trivia-night-4/2024-10-01/
END:VEVENT
BEGIN:VEVENT
DTSTART;TZID=America/Toronto:20241004T180000
DTEND;TZID=America/Toronto:20241004T210000
DTSTAMP:20260421T142208
CREATED:20240405T034459Z
LAST-MODIFIED:20260117T045853Z
UID:10000833-1728064800-1728075600@riverforestgolf.com
SUMMARY:Friday Happy Hour
DESCRIPTION:Join us every Friday for live music by local artists from 6-9 pm.
URL:https://riverforestgolf.com/event/friday-happy-hour/2024-10-04/
END:VEVENT
BEGIN:VEVENT
DTSTART;TZID=America/Toronto:20241008T190000
DTEND;TZID=America/Toronto:20241008T210000
DTSTAMP:20260421T142208
CREATED:20240201T234943Z
LAST-MODIFIED:20241221T043957Z
UID:10000571-1728414000-1728421200@riverforestgolf.com
SUMMARY:DJ Trivia Night
DESCRIPTION:Join us for DJ Trivia Night every Tuesday at 7pm. Free to play and winning team gets a prize! Food and drinks available starting at 7 pm.
URL:https://riverforestgolf.com/event/dj-trivia-night-4/2024-10-08/
END:VEVENT
BEGIN:VEVENT
DTSTART;TZID=America/Toronto:20241011T180000
DTEND;TZID=America/Toronto:20241011T210000
DTSTAMP:20260421T142208
CREATED:20240405T034459Z
LAST-MODIFIED:20260117T045853Z
UID:10000834-1728669600-1728680400@riverforestgolf.com
SUMMARY:Friday Happy Hour
DESCRIPTION:Join us every Friday for live music by local artists from 6-9 pm.
URL:https://riverforestgolf.com/event/friday-happy-hour/2024-10-11/
END:VEVENT
BEGIN:VEVENT
DTSTART;TZID=America/Toronto:20241015T190000
DTEND;TZID=America/Toronto:20241015T210000
DTSTAMP:20260421T142208
CREATED:20240201T234943Z
LAST-MODIFIED:20241221T043957Z
UID:10000572-1729018800-1729026000@riverforestgolf.com
SUMMARY:DJ Trivia Night
DESCRIPTION:Join us for DJ Trivia Night every Tuesday at 7pm. Free to play and winning team gets a prize! Food and drinks available starting at 7 pm.
URL:https://riverforestgolf.com/event/dj-trivia-night-4/2024-10-15/
END:VEVENT
BEGIN:VEVENT
DTSTART;TZID=America/Toronto:20241018T180000
DTEND;TZID=America/Toronto:20241018T210000
DTSTAMP:20260421T142208
CREATED:20240405T034459Z
LAST-MODIFIED:20260117T045853Z
UID:10000835-1729274400-1729285200@riverforestgolf.com
SUMMARY:Friday Happy Hour
DESCRIPTION:Join us every Friday for live music by local artists from 6-9 pm.
URL:https://riverforestgolf.com/event/friday-happy-hour/2024-10-18/
END:VEVENT
BEGIN:VEVENT
DTSTART;TZID=America/Toronto:20241022T190000
DTEND;TZID=America/Toronto:20241022T210000
DTSTAMP:20260421T142208
CREATED:20240201T234943Z
LAST-MODIFIED:20241221T043957Z
UID:10000573-1729623600-1729630800@riverforestgolf.com
SUMMARY:DJ Trivia Night
DESCRIPTION:Join us for DJ Trivia Night every Tuesday at 7pm. Free to play and winning team gets a prize! Food and drinks available starting at 7 pm.
URL:https://riverforestgolf.com/event/dj-trivia-night-4/2024-10-22/
END:VEVENT
BEGIN:VEVENT
DTSTART;TZID=America/Toronto:20241025T180000
DTEND;TZID=America/Toronto:20241025T210000
DTSTAMP:20260421T142208
CREATED:20240405T034459Z
LAST-MODIFIED:20260117T045853Z
UID:10000836-1729879200-1729890000@riverforestgolf.com
SUMMARY:Friday Happy Hour
DESCRIPTION:Join us every Friday for live music by local artists from 6-9 pm.
URL:https://riverforestgolf.com/event/friday-happy-hour/2024-10-25/
END:VEVENT
BEGIN:VEVENT
DTSTART;TZID=America/Toronto:20241026T180000
DTEND;TZID=America/Toronto:20241026T210000
DTSTAMP:20260421T142208
CREATED:20241017T013511Z
LAST-MODIFIED:20241017T013511Z
UID:10001705-1729965600-1729976400@riverforestgolf.com
SUMMARY:21+ Halloween Event
DESCRIPTION:
URL:https://riverforestgolf.com/event/21-halloween-event/
END:VEVENT
BEGIN:VEVENT
DTSTART;TZID=America/Toronto:20241027T110000
DTEND;TZID=America/Toronto:20241027T160000
DTSTAMP:20260421T142208
CREATED:20241017T013607Z
LAST-MODIFIED:20241017T013607Z
UID:10001706-1730026800-1730044800@riverforestgolf.com
SUMMARY:Kids Halloween Event
DESCRIPTION:
URL:https://riverforestgolf.com/event/kids-halloween-event/
END:VEVENT
BEGIN:VEVENT
DTSTART;TZID=America/Toronto:20241029T190000
DTEND;TZID=America/Toronto:20241029T210000
DTSTAMP:20260421T142208
CREATED:20240201T234943Z
LAST-MODIFIED:20241221T043957Z
UID:10000574-1730228400-1730235600@riverforestgolf.com
SUMMARY:DJ Trivia Night
DESCRIPTION:Join us for DJ Trivia Night every Tuesday at 7pm. Free to play and winning team gets a prize! Food and drinks available starting at 7 pm.
URL:https://riverforestgolf.com/event/dj-trivia-night-4/2024-10-29/
END:VEVENT
BEGIN:VEVENT
DTSTART;TZID=America/Toronto:20241101T180000
DTEND;TZID=America/Toronto:20241101T210000
DTSTAMP:20260421T142208
CREATED:20240405T034459Z
LAST-MODIFIED:20260117T045853Z
UID:10000837-1730484000-1730494800@riverforestgolf.com
SUMMARY:Friday Happy Hour
DESCRIPTION:Join us every Friday for live music by local artists from 6-9 pm.
URL:https://riverforestgolf.com/event/friday-happy-hour/2024-11-01/
END:VEVENT
BEGIN:VEVENT
DTSTART;TZID=America/Toronto:20241105T190000
DTEND;TZID=America/Toronto:20241105T210000
DTSTAMP:20260421T142208
CREATED:20240201T234943Z
LAST-MODIFIED:20241221T043957Z
UID:10000575-1730833200-1730840400@riverforestgolf.com
SUMMARY:DJ Trivia Night
DESCRIPTION:Join us for DJ Trivia Night every Tuesday at 7pm. Free to play and winning team gets a prize! Food and drinks available starting at 7 pm.
URL:https://riverforestgolf.com/event/dj-trivia-night-4/2024-11-05/
END:VEVENT
BEGIN:VEVENT
DTSTART;TZID=America/Toronto:20241108T180000
DTEND;TZID=America/Toronto:20241108T210000
DTSTAMP:20260421T142208
CREATED:20240405T034459Z
LAST-MODIFIED:20260117T045853Z
UID:10000838-1731088800-1731099600@riverforestgolf.com
SUMMARY:Friday Happy Hour
DESCRIPTION:Join us every Friday for live music by local artists from 6-9 pm.
URL:https://riverforestgolf.com/event/friday-happy-hour/2024-11-08/
END:VEVENT
BEGIN:VEVENT
DTSTART;TZID=America/Toronto:20241112T190000
DTEND;TZID=America/Toronto:20241112T210000
DTSTAMP:20260421T142208
CREATED:20240201T234943Z
LAST-MODIFIED:20241221T043957Z
UID:10000576-1731438000-1731445200@riverforestgolf.com
SUMMARY:DJ Trivia Night
DESCRIPTION:Join us for DJ Trivia Night every Tuesday at 7pm. Free to play and winning team gets a prize! Food and drinks available starting at 7 pm.
URL:https://riverforestgolf.com/event/dj-trivia-night-4/2024-11-12/
END:VEVENT
BEGIN:VEVENT
DTSTART;TZID=America/Toronto:20241115T180000
DTEND;TZID=America/Toronto:20241115T210000
DTSTAMP:20260421T142208
CREATED:20240405T034459Z
LAST-MODIFIED:20260117T045853Z
UID:10000839-1731693600-1731704400@riverforestgolf.com
SUMMARY:Friday Happy Hour
DESCRIPTION:Join us every Friday for live music by local artists from 6-9 pm.
URL:https://riverforestgolf.com/event/friday-happy-hour/2024-11-15/
END:VEVENT
BEGIN:VEVENT
DTSTART;TZID=America/Toronto:20241119T190000
DTEND;TZID=America/Toronto:20241119T210000
DTSTAMP:20260421T142208
CREATED:20240201T234943Z
LAST-MODIFIED:20241221T043957Z
UID:10000577-1732042800-1732050000@riverforestgolf.com
SUMMARY:DJ Trivia Night
DESCRIPTION:Join us for DJ Trivia Night every Tuesday at 7pm. Free to play and winning team gets a prize! Food and drinks available starting at 7 pm.
URL:https://riverforestgolf.com/event/dj-trivia-night-4/2024-11-19/
END:VEVENT
BEGIN:VEVENT
DTSTART;TZID=America/Toronto:20241122T180000
DTEND;TZID=America/Toronto:20241122T210000
DTSTAMP:20260421T142208
CREATED:20240405T034459Z
LAST-MODIFIED:20260117T045853Z
UID:10000840-1732298400-1732309200@riverforestgolf.com
SUMMARY:Friday Happy Hour
DESCRIPTION:Join us every Friday for live music by local artists from 6-9 pm.
URL:https://riverforestgolf.com/event/friday-happy-hour/2024-11-22/
END:VEVENT
BEGIN:VEVENT
DTSTART;TZID=America/Toronto:20241126T190000
DTEND;TZID=America/Toronto:20241126T210000
DTSTAMP:20260421T142208
CREATED:20240201T234943Z
LAST-MODIFIED:20241221T043957Z
UID:10000578-1732647600-1732654800@riverforestgolf.com
SUMMARY:DJ Trivia Night
DESCRIPTION:Join us for DJ Trivia Night every Tuesday at 7pm. Free to play and winning team gets a prize! Food and drinks available starting at 7 pm.
URL:https://riverforestgolf.com/event/dj-trivia-night-4/2024-11-26/
END:VEVENT
BEGIN:VEVENT
DTSTART;TZID=America/Toronto:20241128T110000
DTEND;TZID=America/Toronto:20241128T150000
DTSTAMP:20260421T142208
CREATED:20241017T013710Z
LAST-MODIFIED:20241017T013710Z
UID:10001707-1732791600-1732806000@riverforestgolf.com
SUMMARY:Thanksgiving Buffet
DESCRIPTION:
URL:https://riverforestgolf.com/event/thanksgiving-buffet/
END:VEVENT
BEGIN:VEVENT
DTSTART;TZID=America/Toronto:20241129T180000
DTEND;TZID=America/Toronto:20241129T210000
DTSTAMP:20260421T142208
CREATED:20240405T034459Z
LAST-MODIFIED:20260117T045853Z
UID:10000841-1732903200-1732914000@riverforestgolf.com
SUMMARY:Friday Happy Hour
DESCRIPTION:Join us every Friday for live music by local artists from 6-9 pm.
URL:https://riverforestgolf.com/event/friday-happy-hour/2024-11-29/
END:VEVENT
BEGIN:VEVENT
DTSTART;VALUE=DATE:20241201
DTEND;VALUE=DATE:20241202
DTSTAMP:20260421T142208
CREATED:20241107T161714Z
LAST-MODIFIED:20241107T163720Z
UID:10001708-1733011200-1733097599@riverforestgolf.com
SUMMARY:Breakfast At The North Pole
DESCRIPTION:Crafts\, cookie decorating\, Photos\, santa\, Signature holiday drinks (alcoholic and non-alcoholic) and of course brunch/breakfast food.\nChoose from three seating options:\n• 10am (max 75 guests)\n• 12pm (max 75 guests)\n• 2pm (max 75 guests). \nKids 2 and under are free.
URL:https://riverforestgolf.com/event/breakfast-at-the-north-pole/
CATEGORIES:Upcoming Events
ATTACH;FMTTYPE=image/jpeg:https://riverforestgolf.com/wp-content/uploads/2024/11/Snapchat-1980719808-scaled.jpg
END:VEVENT
BEGIN:VEVENT
DTSTART;TZID=America/Toronto:20241203T190000
DTEND;TZID=America/Toronto:20241203T210000
DTSTAMP:20260421T142208
CREATED:20240201T234943Z
LAST-MODIFIED:20241221T043957Z
UID:10000579-1733252400-1733259600@riverforestgolf.com
SUMMARY:DJ Trivia Night
DESCRIPTION:Join us for DJ Trivia Night every Tuesday at 7pm. Free to play and winning team gets a prize! Food and drinks available starting at 7 pm.
URL:https://riverforestgolf.com/event/dj-trivia-night-4/2024-12-03/
END:VEVENT
BEGIN:VEVENT
DTSTART;TZID=America/Toronto:20241206T180000
DTEND;TZID=America/Toronto:20241206T210000
DTSTAMP:20260421T142208
CREATED:20240405T034459Z
LAST-MODIFIED:20260117T045853Z
UID:10000842-1733508000-1733518800@riverforestgolf.com
SUMMARY:Friday Happy Hour
DESCRIPTION:Join us every Friday for live music by local artists from 6-9 pm.
URL:https://riverforestgolf.com/event/friday-happy-hour/2024-12-06/
END:VEVENT
BEGIN:VEVENT
DTSTART;TZID=America/Toronto:20241210T190000
DTEND;TZID=America/Toronto:20241210T210000
DTSTAMP:20260421T142208
CREATED:20240201T234943Z
LAST-MODIFIED:20241221T043957Z
UID:10000580-1733857200-1733864400@riverforestgolf.com
SUMMARY:DJ Trivia Night
DESCRIPTION:Join us for DJ Trivia Night every Tuesday at 7pm. Free to play and winning team gets a prize! Food and drinks available starting at 7 pm.
URL:https://riverforestgolf.com/event/dj-trivia-night-4/2024-12-10/
END:VEVENT
END:VCALENDAR