BEGIN:VCALENDAR
VERSION:2.0
PRODID:-//River Forest Country Club - ECPv6.15.20//NONSGML v1.0//EN
CALSCALE:GREGORIAN
METHOD:PUBLISH
X-WR-CALNAME:River Forest Country Club
X-ORIGINAL-URL:https://riverforestgolf.com
X-WR-CALDESC:Events for River Forest Country Club
REFRESH-INTERVAL;VALUE=DURATION:PT1H
X-Robots-Tag:noindex
X-PUBLISHED-TTL:PT1H
BEGIN:VTIMEZONE
TZID:America/Toronto
BEGIN:DAYLIGHT
TZOFFSETFROM:-0500
TZOFFSETTO:-0400
TZNAME:EDT
DTSTART:20230312T070000
END:DAYLIGHT
BEGIN:STANDARD
TZOFFSETFROM:-0400
TZOFFSETTO:-0500
TZNAME:EST
DTSTART:20231105T060000
END:STANDARD
BEGIN:DAYLIGHT
TZOFFSETFROM:-0500
TZOFFSETTO:-0400
TZNAME:EDT
DTSTART:20240310T070000
END:DAYLIGHT
BEGIN:STANDARD
TZOFFSETFROM:-0400
TZOFFSETTO:-0500
TZNAME:EST
DTSTART:20241103T060000
END:STANDARD
BEGIN:DAYLIGHT
TZOFFSETFROM:-0500
TZOFFSETTO:-0400
TZNAME:EDT
DTSTART:20250309T070000
END:DAYLIGHT
BEGIN:STANDARD
TZOFFSETFROM:-0400
TZOFFSETTO:-0500
TZNAME:EST
DTSTART:20251102T060000
END:STANDARD
BEGIN:DAYLIGHT
TZOFFSETFROM:-0500
TZOFFSETTO:-0400
TZNAME:EDT
DTSTART:20260308T070000
END:DAYLIGHT
BEGIN:STANDARD
TZOFFSETFROM:-0400
TZOFFSETTO:-0500
TZNAME:EST
DTSTART:20261101T060000
END:STANDARD
END:VTIMEZONE
BEGIN:VEVENT
DTSTART;TZID=America/Toronto:20250307T180000
DTEND;TZID=America/Toronto:20250307T210000
DTSTAMP:20260421T133908
CREATED:20240405T034459Z
LAST-MODIFIED:20260117T045853Z
UID:10000855-1741370400-1741381200@riverforestgolf.com
SUMMARY:Friday Happy Hour
DESCRIPTION:Join us every Friday for live music by local artists from 6-9 pm.
URL:https://riverforestgolf.com/event/friday-happy-hour/2025-03-07/
END:VEVENT
BEGIN:VEVENT
DTSTART;TZID=America/Toronto:20250307T170000
DTEND;TZID=America/Toronto:20250307T210000
DTSTAMP:20260421T133908
CREATED:20250305T043315Z
LAST-MODIFIED:20250305T043315Z
UID:10001759-1741366800-1741381200@riverforestgolf.com
SUMMARY:Seafood Night
DESCRIPTION:
URL:https://riverforestgolf.com/event/seafood-night/2025-03-07/
END:VEVENT
BEGIN:VEVENT
DTSTART;TZID=America/Toronto:20250304T190000
DTEND;TZID=America/Toronto:20250304T210000
DTSTAMP:20260421T133908
CREATED:20241221T043707Z
LAST-MODIFIED:20260117T042922Z
UID:10000592-1741114800-1741122000@riverforestgolf.com
SUMMARY:DJ Trivia Night
DESCRIPTION:Join us for DJ Trivia Night every Tuesday at 7pm. Free to play and winning team gets a prize! Food and drinks available starting at 7 pm.
URL:https://riverforestgolf.com/event/dj-trivia-night-4-2/2025-03-04/
END:VEVENT
BEGIN:VEVENT
DTSTART;TZID=America/Toronto:20250301T160000
DTEND;TZID=America/Toronto:20250301T193000
DTSTAMP:20260421T133908
CREATED:20250215T023423Z
LAST-MODIFIED:20250219T161614Z
UID:10001756-1740844800-1740857400@riverforestgolf.com
SUMMARY:Cooking Class with Chef Nash
DESCRIPTION:Join us on March 1 with guest instructor\, Chef Nash to learn the step-by-step guide on how to cook Beef Wellington!  \n$70 per person. Includes two hour class + dinner \nReservation are required. Call 724-295-2298 by Feb. 26
URL:https://riverforestgolf.com/event/cooking-class-with-chef-nash/
LOCATION:River Forest Country Club\, 130 Club House Drive\, Freeport\, PA\, 16229\, United States
CATEGORIES:Upcoming Events
END:VEVENT
BEGIN:VEVENT
DTSTART;TZID=America/Toronto:20250228T180000
DTEND;TZID=America/Toronto:20250228T210000
DTSTAMP:20260421T133908
CREATED:20240405T034459Z
LAST-MODIFIED:20260117T045853Z
UID:10000854-1740765600-1740776400@riverforestgolf.com
SUMMARY:Friday Happy Hour
DESCRIPTION:Join us every Friday for live music by local artists from 6-9 pm.
URL:https://riverforestgolf.com/event/friday-happy-hour/2025-02-28/
END:VEVENT
BEGIN:VEVENT
DTSTART;TZID=America/Toronto:20250227T170000
DTEND;TZID=America/Toronto:20250227T200000
DTSTAMP:20260421T133908
CREATED:20250215T023717Z
LAST-MODIFIED:20250215T023717Z
UID:10001757-1740675600-1740686400@riverforestgolf.com
SUMMARY:Build-Your-Own Pizza and Simulator Night
DESCRIPTION:Join us on Thursday\, Feb. 27 from 5-8 pm to build your own pizza and try out the Golf Simulator! \n 
URL:https://riverforestgolf.com/event/build-your-own-pizza-and-simulator-night/
END:VEVENT
BEGIN:VEVENT
DTSTART;TZID=America/Toronto:20250225T190000
DTEND;TZID=America/Toronto:20250225T210000
DTSTAMP:20260421T133908
CREATED:20241221T043707Z
LAST-MODIFIED:20260117T042922Z
UID:10000591-1740510000-1740517200@riverforestgolf.com
SUMMARY:DJ Trivia Night
DESCRIPTION:Join us for DJ Trivia Night every Tuesday at 7pm. Free to play and winning team gets a prize! Food and drinks available starting at 7 pm.
URL:https://riverforestgolf.com/event/dj-trivia-night-4-2/2025-02-25/
END:VEVENT
BEGIN:VEVENT
DTSTART;TZID=America/Toronto:20250221T180000
DTEND;TZID=America/Toronto:20250221T210000
DTSTAMP:20260421T133908
CREATED:20240405T034459Z
LAST-MODIFIED:20260117T045853Z
UID:10000853-1740160800-1740171600@riverforestgolf.com
SUMMARY:Friday Happy Hour
DESCRIPTION:Join us every Friday for live music by local artists from 6-9 pm.
URL:https://riverforestgolf.com/event/friday-happy-hour/2025-02-21/
END:VEVENT
BEGIN:VEVENT
DTSTART;TZID=America/Toronto:20250218T190000
DTEND;TZID=America/Toronto:20250218T210000
DTSTAMP:20260421T133908
CREATED:20241221T043707Z
LAST-MODIFIED:20260117T042922Z
UID:10000590-1739905200-1739912400@riverforestgolf.com
SUMMARY:DJ Trivia Night
DESCRIPTION:Join us for DJ Trivia Night every Tuesday at 7pm. Free to play and winning team gets a prize! Food and drinks available starting at 7 pm.
URL:https://riverforestgolf.com/event/dj-trivia-night-4-2/2025-02-18/
END:VEVENT
BEGIN:VEVENT
DTSTART;TZID=America/Toronto:20250215T170000
DTEND;TZID=America/Toronto:20250215T190000
DTSTAMP:20260421T133908
CREATED:20250118T050213Z
LAST-MODIFIED:20250119T182336Z
UID:10001755-1739638800-1739646000@riverforestgolf.com
SUMMARY:Valentine's Day Dinner
DESCRIPTION:  \nReservations are required and can be made by calling 724-295-2298!
URL:https://riverforestgolf.com/event/valentines-day-dinner-2/2025-02-15/
END:VEVENT
BEGIN:VEVENT
DTSTART;TZID=America/Toronto:20250214T180000
DTEND;TZID=America/Toronto:20250214T210000
DTSTAMP:20260421T133908
CREATED:20240405T034459Z
LAST-MODIFIED:20260117T045853Z
UID:10000852-1739556000-1739566800@riverforestgolf.com
SUMMARY:Friday Happy Hour
DESCRIPTION:Join us every Friday for live music by local artists from 6-9 pm.
URL:https://riverforestgolf.com/event/friday-happy-hour/2025-02-14/
END:VEVENT
BEGIN:VEVENT
DTSTART;TZID=America/Toronto:20250214T170000
DTEND;TZID=America/Toronto:20250214T190000
DTSTAMP:20260421T133908
CREATED:20250118T050213Z
LAST-MODIFIED:20250119T182336Z
UID:10001754-1739552400-1739559600@riverforestgolf.com
SUMMARY:Valentine's Day Dinner
DESCRIPTION:  \nReservations are required and can be made by calling 724-295-2298!
URL:https://riverforestgolf.com/event/valentines-day-dinner-2/2025-02-14/
END:VEVENT
BEGIN:VEVENT
DTSTART;TZID=America/Toronto:20250211T190000
DTEND;TZID=America/Toronto:20250211T210000
DTSTAMP:20260421T133908
CREATED:20241221T043707Z
LAST-MODIFIED:20260117T042922Z
UID:10000589-1739300400-1739307600@riverforestgolf.com
SUMMARY:DJ Trivia Night
DESCRIPTION:Join us for DJ Trivia Night every Tuesday at 7pm. Free to play and winning team gets a prize! Food and drinks available starting at 7 pm.
URL:https://riverforestgolf.com/event/dj-trivia-night-4-2/2025-02-11/
END:VEVENT
BEGIN:VEVENT
DTSTART;TZID=America/Toronto:20250207T180000
DTEND;TZID=America/Toronto:20250207T210000
DTSTAMP:20260421T133908
CREATED:20240405T034459Z
LAST-MODIFIED:20260117T045853Z
UID:10000851-1738951200-1738962000@riverforestgolf.com
SUMMARY:Friday Happy Hour
DESCRIPTION:Join us every Friday for live music by local artists from 6-9 pm.
URL:https://riverforestgolf.com/event/friday-happy-hour/2025-02-07/
END:VEVENT
BEGIN:VEVENT
DTSTART;TZID=America/Toronto:20250204T190000
DTEND;TZID=America/Toronto:20250204T210000
DTSTAMP:20260421T133908
CREATED:20241221T043707Z
LAST-MODIFIED:20260117T042922Z
UID:10000588-1738695600-1738702800@riverforestgolf.com
SUMMARY:DJ Trivia Night
DESCRIPTION:Join us for DJ Trivia Night every Tuesday at 7pm. Free to play and winning team gets a prize! Food and drinks available starting at 7 pm.
URL:https://riverforestgolf.com/event/dj-trivia-night-4-2/2025-02-04/
END:VEVENT
BEGIN:VEVENT
DTSTART;TZID=America/Toronto:20250202T110000
DTEND;TZID=America/Toronto:20250202T210000
DTSTAMP:20260421T133908
CREATED:20250118T050009Z
LAST-MODIFIED:20250118T050009Z
UID:10001753-1738494000-1738530000@riverforestgolf.com
SUMMARY:Ground Hog Day Specials!
DESCRIPTION:
URL:https://riverforestgolf.com/event/ground-hog-day-specials/2025-02-02/
END:VEVENT
BEGIN:VEVENT
DTSTART;TZID=America/Toronto:20250201T110000
DTEND;TZID=America/Toronto:20250201T210000
DTSTAMP:20260421T133908
CREATED:20250118T050009Z
LAST-MODIFIED:20250118T050009Z
UID:10001752-1738407600-1738443600@riverforestgolf.com
SUMMARY:Ground Hog Day Specials!
DESCRIPTION:
URL:https://riverforestgolf.com/event/ground-hog-day-specials/2025-02-01/
END:VEVENT
BEGIN:VEVENT
DTSTART;TZID=America/Toronto:20250131T180000
DTEND;TZID=America/Toronto:20250131T210000
DTSTAMP:20260421T133908
CREATED:20240405T034459Z
LAST-MODIFIED:20260117T045853Z
UID:10000850-1738346400-1738357200@riverforestgolf.com
SUMMARY:Friday Happy Hour
DESCRIPTION:Join us every Friday for live music by local artists from 6-9 pm.
URL:https://riverforestgolf.com/event/friday-happy-hour/2025-01-31/
END:VEVENT
BEGIN:VEVENT
DTSTART;TZID=America/Toronto:20250128T190000
DTEND;TZID=America/Toronto:20250128T210000
DTSTAMP:20260421T133908
CREATED:20241221T043707Z
LAST-MODIFIED:20260117T042922Z
UID:10000587-1738090800-1738098000@riverforestgolf.com
SUMMARY:DJ Trivia Night
DESCRIPTION:Join us for DJ Trivia Night every Tuesday at 7pm. Free to play and winning team gets a prize! Food and drinks available starting at 7 pm.
URL:https://riverforestgolf.com/event/dj-trivia-night-4-2/2025-01-28/
END:VEVENT
BEGIN:VEVENT
DTSTART;TZID=America/Toronto:20250125T170000
DTEND;TZID=America/Toronto:20250125T210000
DTSTAMP:20260421T133908
CREATED:20250104T060228Z
LAST-MODIFIED:20250104T060228Z
UID:10001751-1737824400-1737838800@riverforestgolf.com
SUMMARY:Scottish Night featuring a Burns Supper
DESCRIPTION:Who is Robert Burns? His poetry recorded and celebrated aspects of farm life\, regional experience\, traditional culture\, class culture and distinctions\, and religious practice. He is considered the national poet of Scotland. Although he did not set out to achieve that designation\, he clearly and repeatedly expressed his wish to be called a Scots bard\, to extol his native land in poetry and song\, as he does in “The Answer”: \nEv’n thena wish (I mind its power)\nA wish\, that to my latest hour\nShall strongly heave my breast;\nThat I for poor auld Scotland’s sake\nSome useful plan\, or book could make\,\nOr sing a sang at least. \nLearn more about Robert Burns on the Poetry Foundations website: https://www.poetryfoundation.org/poets/robert-burns
URL:https://riverforestgolf.com/event/scottish-night-featuring-a-burns-supper/
END:VEVENT
BEGIN:VEVENT
DTSTART;TZID=America/Toronto:20250124T180000
DTEND;TZID=America/Toronto:20250124T210000
DTSTAMP:20260421T133908
CREATED:20240405T034459Z
LAST-MODIFIED:20260117T045853Z
UID:10000849-1737741600-1737752400@riverforestgolf.com
SUMMARY:Friday Happy Hour
DESCRIPTION:Join us every Friday for live music by local artists from 6-9 pm.
URL:https://riverforestgolf.com/event/friday-happy-hour/2025-01-24/
END:VEVENT
BEGIN:VEVENT
DTSTART;TZID=America/Toronto:20250121T190000
DTEND;TZID=America/Toronto:20250121T210000
DTSTAMP:20260421T133908
CREATED:20241221T043707Z
LAST-MODIFIED:20260117T042922Z
UID:10000586-1737486000-1737493200@riverforestgolf.com
SUMMARY:DJ Trivia Night
DESCRIPTION:Join us for DJ Trivia Night every Tuesday at 7pm. Free to play and winning team gets a prize! Food and drinks available starting at 7 pm.
URL:https://riverforestgolf.com/event/dj-trivia-night-4-2/2025-01-21/
END:VEVENT
BEGIN:VEVENT
DTSTART;TZID=America/Toronto:20250117T180000
DTEND;TZID=America/Toronto:20250117T210000
DTSTAMP:20260421T133908
CREATED:20240405T034459Z
LAST-MODIFIED:20260117T045853Z
UID:10000848-1737136800-1737147600@riverforestgolf.com
SUMMARY:Friday Happy Hour
DESCRIPTION:Join us every Friday for live music by local artists from 6-9 pm.
URL:https://riverforestgolf.com/event/friday-happy-hour/2025-01-17/
END:VEVENT
BEGIN:VEVENT
DTSTART;TZID=America/Toronto:20250114T190000
DTEND;TZID=America/Toronto:20250114T210000
DTSTAMP:20260421T133908
CREATED:20241221T043707Z
LAST-MODIFIED:20260117T042922Z
UID:10000585-1736881200-1736888400@riverforestgolf.com
SUMMARY:DJ Trivia Night
DESCRIPTION:Join us for DJ Trivia Night every Tuesday at 7pm. Free to play and winning team gets a prize! Food and drinks available starting at 7 pm.
URL:https://riverforestgolf.com/event/dj-trivia-night-4-2/2025-01-14/
END:VEVENT
BEGIN:VEVENT
DTSTART;TZID=America/Toronto:20250110T180000
DTEND;TZID=America/Toronto:20250110T210000
DTSTAMP:20260421T133908
CREATED:20240405T034459Z
LAST-MODIFIED:20260117T045853Z
UID:10000847-1736532000-1736542800@riverforestgolf.com
SUMMARY:Friday Happy Hour
DESCRIPTION:Join us every Friday for live music by local artists from 6-9 pm.
URL:https://riverforestgolf.com/event/friday-happy-hour/2025-01-10/
END:VEVENT
BEGIN:VEVENT
DTSTART;TZID=America/Toronto:20250107T190000
DTEND;TZID=America/Toronto:20250107T210000
DTSTAMP:20260421T133908
CREATED:20241221T043707Z
LAST-MODIFIED:20260117T042922Z
UID:10000584-1736276400-1736283600@riverforestgolf.com
SUMMARY:DJ Trivia Night
DESCRIPTION:Join us for DJ Trivia Night every Tuesday at 7pm. Free to play and winning team gets a prize! Food and drinks available starting at 7 pm.
URL:https://riverforestgolf.com/event/dj-trivia-night-4-2/2025-01-07/
END:VEVENT
BEGIN:VEVENT
DTSTART;TZID=America/Toronto:20250103T180000
DTEND;TZID=America/Toronto:20250103T210000
DTSTAMP:20260421T133908
CREATED:20240405T034459Z
LAST-MODIFIED:20260117T045853Z
UID:10000846-1735927200-1735938000@riverforestgolf.com
SUMMARY:Friday Happy Hour
DESCRIPTION:Join us every Friday for live music by local artists from 6-9 pm.
URL:https://riverforestgolf.com/event/friday-happy-hour/2025-01-03/
END:VEVENT
BEGIN:VEVENT
DTSTART;TZID=America/Toronto:20241231T110000
DTEND;TZID=America/Toronto:20241231T140000
DTSTAMP:20260421T133908
CREATED:20241221T043409Z
LAST-MODIFIED:20241221T043409Z
UID:10001710-1735642800-1735653600@riverforestgolf.com
SUMMARY:New Year's Eve Brunch
DESCRIPTION:
URL:https://riverforestgolf.com/event/new-years-eve-brunch/
END:VEVENT
BEGIN:VEVENT
DTSTART;VALUE=DATE:20241231
DTEND;VALUE=DATE:20250101
DTSTAMP:20260421T133908
CREATED:20241221T044509Z
LAST-MODIFIED:20241221T044617Z
UID:10001750-1735603200-1735689599@riverforestgolf.com
SUMMARY:2025 Membership Renewal - Early Bird Special Deadline
DESCRIPTION:
URL:https://riverforestgolf.com/event/early-bird-special-membership-renewal-deadline/
END:VEVENT
BEGIN:VEVENT
DTSTART;TZID=America/Toronto:20241228T190000
DTEND;TZID=America/Toronto:20241228T220000
DTSTAMP:20260421T133908
CREATED:20241212T031721Z
LAST-MODIFIED:20241221T042017Z
UID:10001709-1735412400-1735423200@riverforestgolf.com
SUMMARY:Comedy Night
DESCRIPTION:                           \n  \nJoin us on December 28 at 7 pm for our Comedy Night!  We’ll have a limited special menu available during the show! Meet the Comedians!\n  \nHost Comedian: Robert Punchur\n\nFeature Comedian: Vinod Patel\n\nHeadliner: Chris Ferretti\n\n\n\n    Vinod Patel is a retired Mechanical engineer experienced in Nuclear and Chemical power plant International experience.  He also taught Applied mathematics and Statistics at Robert Morris University.\nHe is a resident of Pittsburgh since 1971 and lives with his wife of 53 years.  His two sons are Nephrologists and third son is a pharmacist.  All his sons and six grandchildren live in San Diego.  Now he is a full time comedian performing in Pittsburgh\, San Diego\, and New Jersey area.\n\n—-\n\n\n\n      Known for his of observational humor\, celebrity impressions\, and off-the-wall hilarious stories\, Chris Ferretti is an Italian / Irish standup comedian from Bayonne\, NJ with the mind of a felon and the heart of an artist.\n\nNamed “One of the best up and coming comics in Queens and NYC” by the Queens Gazette\, Chris was a weekly winner of the UG! Comedy Competition and also featured at NY Comedy Fest!\n\nHe is an advocate for dog and cat rescues and has produced several comedy showcases that support local animal rescues in and around the NY/ NJ area.\n\nAs an author\, Chris and his wife recently penned a quote book celebrating their beloved aunt and her no-nonsense style of Italian wisdom entitled: GO SH*T IN A HAT: Wise Words\, Vulgar Expressions\, and a Little Bit of Advice from the One and Only Auntie Ro (which is available on Amazon) – with 100% of the proceeds going towards St. Jude Children’s Research Hospital.
URL:https://riverforestgolf.com/event/comedy-night/
END:VEVENT
END:VCALENDAR