BEGIN:VCALENDAR
VERSION:2.0
PRODID:-//River Forest Country Club - ECPv6.15.20//NONSGML v1.0//EN
CALSCALE:GREGORIAN
METHOD:PUBLISH
X-ORIGINAL-URL:https://riverforestgolf.com
X-WR-CALDESC:Events for River Forest Country Club
REFRESH-INTERVAL;VALUE=DURATION:PT1H
X-Robots-Tag:noindex
X-PUBLISHED-TTL:PT1H
BEGIN:VTIMEZONE
TZID:America/Toronto
BEGIN:DAYLIGHT
TZOFFSETFROM:-0500
TZOFFSETTO:-0400
TZNAME:EDT
DTSTART:20250309T070000
END:DAYLIGHT
BEGIN:STANDARD
TZOFFSETFROM:-0400
TZOFFSETTO:-0500
TZNAME:EST
DTSTART:20251102T060000
END:STANDARD
BEGIN:DAYLIGHT
TZOFFSETFROM:-0500
TZOFFSETTO:-0400
TZNAME:EDT
DTSTART:20260308T070000
END:DAYLIGHT
BEGIN:STANDARD
TZOFFSETFROM:-0400
TZOFFSETTO:-0500
TZNAME:EST
DTSTART:20261101T060000
END:STANDARD
BEGIN:DAYLIGHT
TZOFFSETFROM:-0500
TZOFFSETTO:-0400
TZNAME:EDT
DTSTART:20270314T070000
END:DAYLIGHT
BEGIN:STANDARD
TZOFFSETFROM:-0400
TZOFFSETTO:-0500
TZNAME:EST
DTSTART:20271107T060000
END:STANDARD
END:VTIMEZONE
BEGIN:VEVENT
DTSTART;TZID=America/Toronto:20260510T093000
DTEND;TZID=America/Toronto:20260510T133000
DTSTAMP:20260421T143037
CREATED:20260416T010302Z
LAST-MODIFIED:20260416T010302Z
UID:10001929-1778405400-1778419800@riverforestgolf.com
SUMMARY:Mother's Day Brunch
DESCRIPTION:Join us for our annual Mother’s Day Brunch on Sunday\, May 10. Seating’s are 9:30 am\, 11:30 am\, and 1:30 pm. Reservations are required and can be made by calling 724-295-2298 or emailing events@advacare-home.com.
URL:https://riverforestgolf.com/event/mothers-day-brunch/
END:VEVENT
END:VCALENDAR