BEGIN:VCALENDAR
VERSION:2.0
PRODID:-//River Forest Country Club - ECPv6.15.20//NONSGML v1.0//EN
CALSCALE:GREGORIAN
METHOD:PUBLISH
X-WR-CALNAME:River Forest Country Club
X-ORIGINAL-URL:https://riverforestgolf.com
X-WR-CALDESC:Events for River Forest Country Club
REFRESH-INTERVAL;VALUE=DURATION:PT1H
X-Robots-Tag:noindex
X-PUBLISHED-TTL:PT1H
BEGIN:VTIMEZONE
TZID:America/Toronto
BEGIN:DAYLIGHT
TZOFFSETFROM:-0500
TZOFFSETTO:-0400
TZNAME:EDT
DTSTART:20240310T070000
END:DAYLIGHT
BEGIN:STANDARD
TZOFFSETFROM:-0400
TZOFFSETTO:-0500
TZNAME:EST
DTSTART:20241103T060000
END:STANDARD
BEGIN:DAYLIGHT
TZOFFSETFROM:-0500
TZOFFSETTO:-0400
TZNAME:EDT
DTSTART:20250309T070000
END:DAYLIGHT
BEGIN:STANDARD
TZOFFSETFROM:-0400
TZOFFSETTO:-0500
TZNAME:EST
DTSTART:20251102T060000
END:STANDARD
BEGIN:DAYLIGHT
TZOFFSETFROM:-0500
TZOFFSETTO:-0400
TZNAME:EDT
DTSTART:20260308T070000
END:DAYLIGHT
BEGIN:STANDARD
TZOFFSETFROM:-0400
TZOFFSETTO:-0500
TZNAME:EST
DTSTART:20261101T060000
END:STANDARD
END:VTIMEZONE
BEGIN:VEVENT
DTSTART;TZID=America/Toronto:20251017T180000
DTEND;TZID=America/Toronto:20251017T210000
DTSTAMP:20260421T042651
CREATED:20240405T034459Z
LAST-MODIFIED:20260117T045853Z
UID:10000887-1760724000-1760734800@riverforestgolf.com
SUMMARY:Friday Happy Hour
DESCRIPTION:Join us every Friday for live music by local artists from 6-9 pm.
URL:https://riverforestgolf.com/event/friday-happy-hour/2025-10-17/
END:VEVENT
END:VCALENDAR