BEGIN:VCALENDAR
VERSION:2.0
PRODID:-//River Forest Country Club - ECPv6.15.20//NONSGML v1.0//EN
CALSCALE:GREGORIAN
METHOD:PUBLISH
X-WR-CALNAME:River Forest Country Club
X-ORIGINAL-URL:https://riverforestgolf.com
X-WR-CALDESC:Events for River Forest Country Club
REFRESH-INTERVAL;VALUE=DURATION:PT1H
X-Robots-Tag:noindex
X-PUBLISHED-TTL:PT1H
BEGIN:VTIMEZONE
TZID:America/Toronto
BEGIN:DAYLIGHT
TZOFFSETFROM:-0500
TZOFFSETTO:-0400
TZNAME:EDT
DTSTART:20240310T070000
END:DAYLIGHT
BEGIN:STANDARD
TZOFFSETFROM:-0400
TZOFFSETTO:-0500
TZNAME:EST
DTSTART:20241103T060000
END:STANDARD
BEGIN:DAYLIGHT
TZOFFSETFROM:-0500
TZOFFSETTO:-0400
TZNAME:EDT
DTSTART:20250309T070000
END:DAYLIGHT
BEGIN:STANDARD
TZOFFSETFROM:-0400
TZOFFSETTO:-0500
TZNAME:EST
DTSTART:20251102T060000
END:STANDARD
BEGIN:DAYLIGHT
TZOFFSETFROM:-0500
TZOFFSETTO:-0400
TZNAME:EDT
DTSTART:20260308T070000
END:DAYLIGHT
BEGIN:STANDARD
TZOFFSETFROM:-0400
TZOFFSETTO:-0500
TZNAME:EST
DTSTART:20261101T060000
END:STANDARD
END:VTIMEZONE
BEGIN:VEVENT
DTSTART;TZID=America/Toronto:20251010T170000
DTEND;TZID=America/Toronto:20251010T210000
DTSTAMP:20260421T161534
CREATED:20250911T023325Z
LAST-MODIFIED:20250913T023313Z
UID:10001765-1760115600-1760130000@riverforestgolf.com
SUMMARY:Fall Festival
DESCRIPTION:
URL:https://riverforestgolf.com/event/fall-festival/
END:VEVENT
BEGIN:VEVENT
DTSTART;TZID=America/Toronto:20251010T180000
DTEND;TZID=America/Toronto:20251010T210000
DTSTAMP:20260421T161534
CREATED:20240405T034459Z
LAST-MODIFIED:20260117T045853Z
UID:10000886-1760119200-1760130000@riverforestgolf.com
SUMMARY:Friday Happy Hour
DESCRIPTION:Join us every Friday for live music by local artists from 6-9 pm.
URL:https://riverforestgolf.com/event/friday-happy-hour/2025-10-10/
END:VEVENT
END:VCALENDAR